BEGIN:VCALENDAR
VERSION:2.0
PRODID:-//Etablissement St Amand de Bayonne - ECPv4.6.22.1//NONSGML v1.0//EN
CALSCALE:GREGORIAN
METHOD:PUBLISH
X-WR-CALNAME:Etablissement St Amand de Bayonne
X-ORIGINAL-URL:https://saintamandbayonne.fr
X-WR-CALDESC:Évènements pour Etablissement St Amand de Bayonne
BEGIN:VEVENT
DTSTART;TZID=Europe/Paris:20200319T080000
DTEND;TZID=Europe/Paris:20200319T170000
DTSTAMP:20260423T195055
CREATED:20200314T213649Z
LAST-MODIFIED:20200314T213649Z
UID:5226-1584604800-1584637200@saintamandbayonne.fr
SUMMARY:Conseils de classe de 6A\, 6B\, 6C et 5A
DESCRIPTION:
URL:https://saintamandbayonne.fr/event/conseils-de-classe-de-6a-6b-6c-et-5a/
END:VEVENT
END:VCALENDAR