BEGIN:VCALENDAR
VERSION:2.0
PRODID:-//Etablissement St Amand de Bayonne - ECPv4.6.22.1//NONSGML v1.0//EN
CALSCALE:GREGORIAN
METHOD:PUBLISH
X-WR-CALNAME:Etablissement St Amand de Bayonne
X-ORIGINAL-URL:https://saintamandbayonne.fr
X-WR-CALDESC:Évènements pour Etablissement St Amand de Bayonne
BEGIN:VEVENT
DTSTART;TZID=Europe/Paris:20200323T080000
DTEND;TZID=Europe/Paris:20200323T170000
DTSTAMP:20260423T195633
CREATED:20200314T213850Z
LAST-MODIFIED:20200314T213911Z
UID:5230-1584950400-1584982800@saintamandbayonne.fr
SUMMARY:Conseils de classe de 4C\, 3A\, 3B et 3C
DESCRIPTION:
URL:https://saintamandbayonne.fr/event/conseils-de-classe-de-4c-3a-3b-et-3c/
END:VEVENT
END:VCALENDAR