BEGIN:VCALENDAR
VERSION:2.0
PRODID:-//Etablissement St Amand de Bayonne - ECPv4.6.22.1//NONSGML v1.0//EN
CALSCALE:GREGORIAN
METHOD:PUBLISH
X-WR-CALNAME:Etablissement St Amand de Bayonne
X-ORIGINAL-URL:https://saintamandbayonne.fr
X-WR-CALDESC:Évènements pour Etablissement St Amand de Bayonne
BEGIN:VEVENT
DTSTART;TZID=Europe/Paris:20200406T080000
DTEND;TZID=Europe/Paris:20200410T170000
DTSTAMP:20260423T180746
CREATED:20200104T201419Z
LAST-MODIFIED:20200314T213543Z
UID:5034-1586160000-1586538000@saintamandbayonne.fr
SUMMARY:Voyage des 3èmes à Paris ANNULÉ
DESCRIPTION:
URL:https://saintamandbayonne.fr/event/voyage-des-3emes-a-paris/
END:VEVENT
END:VCALENDAR