BEGIN:VCALENDAR
VERSION:2.0
PRODID:-//Etablissement St Amand de Bayonne - ECPv4.6.22.1//NONSGML v1.0//EN
CALSCALE:GREGORIAN
METHOD:PUBLISH
X-WR-CALNAME:Etablissement St Amand de Bayonne
X-ORIGINAL-URL:https://saintamandbayonne.fr
X-WR-CALDESC:Évènements pour Etablissement St Amand de Bayonne
BEGIN:VEVENT
DTSTART;TZID=Europe/Paris:20200505T110000
DTEND;TZID=Europe/Paris:20200509T170000
DTSTAMP:20260423T163107
CREATED:20200110T170905Z
LAST-MODIFIED:20200415T140415Z
UID:5078-1588676400-1589043600@saintamandbayonne.fr
SUMMARY:Voyage des 4èmes en Irlande ANNULÉ
DESCRIPTION:
URL:https://saintamandbayonne.fr/event/voyage-des-4emes-en-irlande/
END:VEVENT
END:VCALENDAR