BEGIN:VCALENDAR
VERSION:2.0
PRODID:-//Etablissement St Amand de Bayonne - ECPv4.6.22.1//NONSGML v1.0//EN
CALSCALE:GREGORIAN
METHOD:PUBLISH
X-WR-CALNAME:Etablissement St Amand de Bayonne
X-ORIGINAL-URL:https://saintamandbayonne.fr
X-WR-CALDESC:Évènements pour Etablissement St Amand de Bayonne
BEGIN:VEVENT
DTSTART;TZID=Europe/Paris:20200512T080000
DTEND;TZID=Europe/Paris:20200512T170000
DTSTAMP:20260423T163208
CREATED:20200623T192205Z
LAST-MODIFIED:20200623T195243Z
UID:5594-1589270400-1589302800@saintamandbayonne.fr
SUMMARY:Reprise des cours en Maternelle et Primaire
DESCRIPTION:
URL:https://saintamandbayonne.fr/event/reprise-des-cours-en-maternelle-et-primaire/
END:VEVENT
END:VCALENDAR