BEGIN:VCALENDAR
VERSION:2.0
PRODID:-//Etablissement St Amand de Bayonne - ECPv4.6.22.1//NONSGML v1.0//EN
CALSCALE:GREGORIAN
METHOD:PUBLISH
X-WR-CALNAME:Etablissement St Amand de Bayonne
X-ORIGINAL-URL:https://saintamandbayonne.fr
X-WR-CALDESC:Évènements pour Etablissement St Amand de Bayonne
BEGIN:VEVENT
DTSTART;TZID=Europe/Paris:20200518T080000
DTEND;TZID=Europe/Paris:20200519T170000
DTSTAMP:20260423T163501
CREATED:20200104T201727Z
LAST-MODIFIED:20200415T140455Z
UID:5042-1589788800-1589907600@saintamandbayonne.fr
SUMMARY:Brevet blanc ANNULÉ
DESCRIPTION:
URL:https://saintamandbayonne.fr/event/brevet-blanc-5/
END:VEVENT
BEGIN:VEVENT
DTSTART;TZID=Europe/Paris:20200518T080000
DTEND;TZID=Europe/Paris:20200518T170000
DTSTAMP:20260423T163501
CREATED:20200623T192114Z
LAST-MODIFIED:20200623T192114Z
UID:5592-1589788800-1589821200@saintamandbayonne.fr
SUMMARY:Reprise des cours en 6ème et 5ème
DESCRIPTION:
URL:https://saintamandbayonne.fr/event/reprise-des-cours-en-6eme-et-5eme/
END:VEVENT
END:VCALENDAR