BEGIN:VCALENDAR
VERSION:2.0
PRODID:-//Etablissement St Amand de Bayonne - ECPv4.6.22.1//NONSGML v1.0//EN
CALSCALE:GREGORIAN
METHOD:PUBLISH
X-WR-CALNAME:Etablissement St Amand de Bayonne
X-ORIGINAL-URL:https://saintamandbayonne.fr
X-WR-CALDESC:Évènements pour Etablissement St Amand de Bayonne
BEGIN:VEVENT
DTSTART;TZID=Europe/Paris:20200603T080000
DTEND;TZID=Europe/Paris:20200603T123000
DTSTAMP:20260423T151049
CREATED:20200623T191753Z
LAST-MODIFIED:20200623T191753Z
UID:5584-1591171200-1591187400@saintamandbayonne.fr
SUMMARY:Conseils de classe des 3èmes
DESCRIPTION:
URL:https://saintamandbayonne.fr/event/conseils-de-classe-des-3emes/
END:VEVENT
END:VCALENDAR