BEGIN:VCALENDAR
VERSION:2.0
PRODID:-//Etablissement St Amand de Bayonne - ECPv4.6.22.1//NONSGML v1.0//EN
CALSCALE:GREGORIAN
METHOD:PUBLISH
X-WR-CALNAME:Etablissement St Amand de Bayonne
X-ORIGINAL-URL:https://saintamandbayonne.fr
X-WR-CALDESC:Évènements pour Etablissement St Amand de Bayonne
BEGIN:VEVENT
DTSTART;TZID=Europe/Paris:20200610T080000
DTEND;TZID=Europe/Paris:20200610T123000
DTSTAMP:20260423T151011
CREATED:20200104T201954Z
LAST-MODIFIED:20200514T140620Z
UID:5048-1591776000-1591792200@saintamandbayonne.fr
SUMMARY:Oral du DNB pour les 3èmes ANNULÉ
DESCRIPTION:
URL:https://saintamandbayonne.fr/event/oral-du-dnb-pour-les-3emes/
END:VEVENT
BEGIN:VEVENT
DTSTART;TZID=Europe/Paris:20200610T080000
DTEND;TZID=Europe/Paris:20200610T123000
DTSTAMP:20260423T151011
CREATED:20200623T191703Z
LAST-MODIFIED:20200623T191703Z
UID:5582-1591776000-1591792200@saintamandbayonne.fr
SUMMARY:Conseils de classe des 6èmes
DESCRIPTION:
URL:https://saintamandbayonne.fr/event/conseils-de-classe-des-6emes/
END:VEVENT
END:VCALENDAR