BEGIN:VCALENDAR
VERSION:2.0
PRODID:-//Etablissement St Amand de Bayonne - ECPv4.6.22.1//NONSGML v1.0//EN
CALSCALE:GREGORIAN
METHOD:PUBLISH
X-WR-CALNAME:Etablissement St Amand de Bayonne
X-ORIGINAL-URL:https://saintamandbayonne.fr
X-WR-CALDESC:Évènements pour Etablissement St Amand de Bayonne
BEGIN:VEVENT
DTSTART;TZID=Europe/Paris:20200703T080000
DTEND;TZID=Europe/Paris:20200703T170000
DTSTAMP:20260423T141858
CREATED:20200623T195703Z
LAST-MODIFIED:20200623T195703Z
UID:5603-1593763200-1593795600@saintamandbayonne.fr
SUMMARY:Fin des cours à l'école
DESCRIPTION:
URL:https://saintamandbayonne.fr/event/fin-des-cours-a-lecole/
END:VEVENT
END:VCALENDAR