BEGIN:VCALENDAR
VERSION:2.0
PRODID:-//Etablissement St Amand de Bayonne - ECPv4.6.22.1//NONSGML v1.0//EN
CALSCALE:GREGORIAN
METHOD:PUBLISH
X-WR-CALNAME:Etablissement St Amand de Bayonne
X-ORIGINAL-URL:https://saintamandbayonne.fr
X-WR-CALDESC:Évènements pour Etablissement St Amand de Bayonne
BEGIN:VEVENT
DTSTART;TZID=Europe/Paris:20200901T083000
DTEND;TZID=Europe/Paris:20200901T170000
DTSTAMP:20260423T112011
CREATED:20200808T092019Z
LAST-MODIFIED:20200808T092019Z
UID:5665-1598949000-1598979600@saintamandbayonne.fr
SUMMARY:Rentrée de la Petite Section à la 6ème
DESCRIPTION:
URL:https://saintamandbayonne.fr/event/rentree-de-la-petite-section-a-la-6eme/
END:VEVENT
END:VCALENDAR