BEGIN:VCALENDAR
VERSION:2.0
PRODID:-//Etablissement St Amand de Bayonne - ECPv4.6.22.1//NONSGML v1.0//EN
CALSCALE:GREGORIAN
METHOD:PUBLISH
X-WR-CALNAME:Etablissement St Amand de Bayonne
X-ORIGINAL-URL:https://saintamandbayonne.fr
X-WR-CALDESC:Évènements pour Etablissement St Amand de Bayonne
BEGIN:VEVENT
DTSTART;TZID=Europe/Paris:20200902T083000
DTEND;TZID=Europe/Paris:20200902T113000
DTSTAMP:20260423T111623
CREATED:20200808T092105Z
LAST-MODIFIED:20200808T092105Z
UID:5667-1599035400-1599046200@saintamandbayonne.fr
SUMMARY:Rentrée des 5èmes\, 4èmes et 3èmes
DESCRIPTION:
URL:https://saintamandbayonne.fr/event/rentree-des-5emes-4emes-et-3emes-2/
END:VEVENT
END:VCALENDAR