BEGIN:VCALENDAR
VERSION:2.0
PRODID:-//Etablissement St Amand de Bayonne - ECPv4.6.22.1//NONSGML v1.0//EN
CALSCALE:GREGORIAN
METHOD:PUBLISH
X-WR-CALNAME:Etablissement St Amand de Bayonne
X-ORIGINAL-URL:https://saintamandbayonne.fr
X-WR-CALDESC:Évènements pour Etablissement St Amand de Bayonne
BEGIN:VEVENT
DTSTART;TZID=Europe/Paris:20201103T193000
DTEND;TZID=Europe/Paris:20201103T203000
DTSTAMP:20260423T082338
CREATED:20201013T200019Z
LAST-MODIFIED:20201031T110946Z
UID:5716-1604431800-1604435400@saintamandbayonne.fr
SUMMARY:Réunion des parents correspondants
DESCRIPTION:
URL:https://saintamandbayonne.fr/event/reunion-des-parents-correspondants/
END:VEVENT
END:VCALENDAR