BEGIN:VCALENDAR
VERSION:2.0
PRODID:-//Etablissement St Amand de Bayonne - ECPv4.6.22.1//NONSGML v1.0//EN
CALSCALE:GREGORIAN
METHOD:PUBLISH
X-WR-CALNAME:Etablissement St Amand de Bayonne
X-ORIGINAL-URL:https://saintamandbayonne.fr
X-WR-CALDESC:Évènements pour Etablissement St Amand de Bayonne
BEGIN:VEVENT
DTSTART;TZID=Europe/Paris:20201114T093000
DTEND;TZID=Europe/Paris:20201114T123000
DTSTAMP:20260423T082150
CREATED:20201013T200238Z
LAST-MODIFIED:20201030T185651Z
UID:5721-1605346200-1605357000@saintamandbayonne.fr
SUMMARY:Matinée Portes Ouvertes reportée
DESCRIPTION:
URL:https://saintamandbayonne.fr/event/matinee-portes-ouvertes-3/
END:VEVENT
END:VCALENDAR