BEGIN:VCALENDAR
VERSION:2.0
PRODID:-//Etablissement St Amand de Bayonne - ECPv4.6.22.1//NONSGML v1.0//EN
CALSCALE:GREGORIAN
METHOD:PUBLISH
X-WR-CALNAME:Etablissement St Amand de Bayonne
X-ORIGINAL-URL:https://saintamandbayonne.fr
X-WR-CALDESC:Évènements pour Etablissement St Amand de Bayonne
BEGIN:VEVENT
DTSTART;TZID=Europe/Paris:20201208T170000
DTEND;TZID=Europe/Paris:20201208T193000
DTSTAMP:20260423T065612
CREATED:20201013T200845Z
LAST-MODIFIED:20201013T200845Z
UID:5735-1607446800-1607455800@saintamandbayonne.fr
SUMMARY:Conseils de classe de 3C et 4A
DESCRIPTION:
URL:https://saintamandbayonne.fr/event/conseils-de-classe-de-3c-et-4a/
END:VEVENT
END:VCALENDAR