BEGIN:VCALENDAR
VERSION:2.0
PRODID:-//Etablissement St Amand de Bayonne - ECPv4.6.22.1//NONSGML v1.0//EN
CALSCALE:GREGORIAN
METHOD:PUBLISH
X-WR-CALNAME:Etablissement St Amand de Bayonne
X-ORIGINAL-URL:https://saintamandbayonne.fr
X-WR-CALDESC:Évènements pour Etablissement St Amand de Bayonne
BEGIN:VEVENT
DTSTART;TZID=Europe/Paris:20201214T170000
DTEND;TZID=Europe/Paris:20201214T193000
DTSTAMP:20260423T070305
CREATED:20201013T201031Z
LAST-MODIFIED:20201203T123645Z
UID:5739-1607965200-1607974200@saintamandbayonne.fr
SUMMARY:Réunion parents-professeurs de 3ABC
DESCRIPTION:Remplacée par des rendez-vous téléphoniques \n
URL:https://saintamandbayonne.fr/event/reunion-parents-professeurs-de-3abc/
END:VEVENT
END:VCALENDAR