BEGIN:VCALENDAR
VERSION:2.0
PRODID:-//Etablissement St Amand de Bayonne - ECPv4.6.22.1//NONSGML v1.0//EN
CALSCALE:GREGORIAN
METHOD:PUBLISH
X-WR-CALNAME:Etablissement St Amand de Bayonne
X-ORIGINAL-URL:https://saintamandbayonne.fr
X-WR-CALDESC:Évènements pour Etablissement St Amand de Bayonne
BEGIN:VEVENT
DTSTART;TZID=Europe/Paris:20210118T170000
DTEND;TZID=Europe/Paris:20210118T193000
DTSTAMP:20260423T052553
CREATED:20201013T201259Z
LAST-MODIFIED:20201013T201259Z
UID:5745-1610989200-1610998200@saintamandbayonne.fr
SUMMARY:Mini conseils de 6ABC
DESCRIPTION:
URL:https://saintamandbayonne.fr/event/mini-conseils-de-6abc-2/
END:VEVENT
END:VCALENDAR