BEGIN:VCALENDAR
VERSION:2.0
PRODID:-//Etablissement St Amand de Bayonne - ECPv4.6.22.1//NONSGML v1.0//EN
CALSCALE:GREGORIAN
METHOD:PUBLISH
X-WR-CALNAME:Etablissement St Amand de Bayonne
X-ORIGINAL-URL:https://saintamandbayonne.fr
X-WR-CALDESC:Évènements pour Etablissement St Amand de Bayonne
BEGIN:VEVENT
DTSTART;TZID=Europe/Paris:20210202T170000
DTEND;TZID=Europe/Paris:20210202T183000
DTSTAMP:20260423T041058
CREATED:20210124T210558Z
LAST-MODIFIED:20210124T210558Z
UID:6103-1612285200-1612290600@saintamandbayonne.fr
SUMMARY:Réunion de présentation des lycées
DESCRIPTION:A destination des élèves de 3ème et de leurs parents\, cette réunion se tiendra en visioconférence. \n
URL:https://saintamandbayonne.fr/event/reunion-de-presentation-des-lycees/
END:VEVENT
END:VCALENDAR