BEGIN:VCALENDAR
VERSION:2.0
PRODID:-//Etablissement St Amand de Bayonne - ECPv4.6.22.1//NONSGML v1.0//EN
CALSCALE:GREGORIAN
METHOD:PUBLISH
X-WR-CALNAME:Etablissement St Amand de Bayonne
X-ORIGINAL-URL:https://saintamandbayonne.fr
X-WR-CALDESC:Évènements pour Etablissement St Amand de Bayonne
BEGIN:VEVENT
DTSTART;TZID=Europe/Paris:20210204T080000
DTEND;TZID=Europe/Paris:20210205T170000
DTSTAMP:20260423T041526
CREATED:20201013T201439Z
LAST-MODIFIED:20201013T201439Z
UID:5749-1612425600-1612544400@saintamandbayonne.fr
SUMMARY:Brevet blanc
DESCRIPTION:
URL:https://saintamandbayonne.fr/event/brevet-blanc-6/
END:VEVENT
END:VCALENDAR