BEGIN:VCALENDAR
VERSION:2.0
PRODID:-//Etablissement St Amand de Bayonne - ECPv4.6.22.1//NONSGML v1.0//EN
CALSCALE:GREGORIAN
METHOD:PUBLISH
X-WR-CALNAME:Etablissement St Amand de Bayonne
X-ORIGINAL-URL:https://saintamandbayonne.fr
X-WR-CALDESC:Évènements pour Etablissement St Amand de Bayonne
BEGIN:VEVENT
DTSTART;TZID=Europe/Paris:20210310T133000
DTEND;TZID=Europe/Paris:20210310T170000
DTSTAMP:20260423T024916
CREATED:20210317T195918Z
LAST-MODIFIED:20210317T195918Z
UID:6273-1615383000-1615395600@saintamandbayonne.fr
SUMMARY:UNSS avec Handi64
DESCRIPTION:
URL:https://saintamandbayonne.fr/event/unss-avec-handi64/
END:VEVENT
END:VCALENDAR