BEGIN:VCALENDAR
VERSION:2.0
PRODID:-//Etablissement St Amand de Bayonne - ECPv4.6.22.1//NONSGML v1.0//EN
CALSCALE:GREGORIAN
METHOD:PUBLISH
X-WR-CALNAME:Etablissement St Amand de Bayonne
X-ORIGINAL-URL:https://saintamandbayonne.fr
X-WR-CALDESC:Évènements pour Etablissement St Amand de Bayonne
BEGIN:VEVENT
DTSTART;TZID=Europe/Paris:20210318T173000
DTEND;TZID=Europe/Paris:20210318T210000
DTSTAMP:20260423T025853
CREATED:20210317T200121Z
LAST-MODIFIED:20210317T200121Z
UID:6279-1616088600-1616101200@saintamandbayonne.fr
SUMMARY:Conseils de classe 6C et 6B
DESCRIPTION:
URL:https://saintamandbayonne.fr/event/conseils-de-classe-6c-et-6b/
END:VEVENT
END:VCALENDAR