BEGIN:VCALENDAR
VERSION:2.0
PRODID:-//Etablissement St Amand de Bayonne - ECPv4.6.22.1//NONSGML v1.0//EN
CALSCALE:GREGORIAN
METHOD:PUBLISH
X-WR-CALNAME:Etablissement St Amand de Bayonne
X-ORIGINAL-URL:https://saintamandbayonne.fr
X-WR-CALDESC:Évènements pour Etablissement St Amand de Bayonne
BEGIN:VEVENT
DTSTART;TZID=Europe/Paris:20210410T080000
DTEND;TZID=Europe/Paris:20210425T170000
DTSTAMP:20260423T014637
CREATED:20210317T200410Z
LAST-MODIFIED:20210317T200410Z
UID:6287-1618041600-1619370000@saintamandbayonne.fr
SUMMARY:Vacances
DESCRIPTION:
URL:https://saintamandbayonne.fr/event/vacances-14/
END:VEVENT
END:VCALENDAR