BEGIN:VCALENDAR
VERSION:2.0
PRODID:-//Etablissement St Amand de Bayonne - ECPv4.6.22.1//NONSGML v1.0//EN
CALSCALE:GREGORIAN
METHOD:PUBLISH
X-WR-CALNAME:Etablissement St Amand de Bayonne
X-ORIGINAL-URL:https://saintamandbayonne.fr
X-WR-CALDESC:Évènements pour Etablissement St Amand de Bayonne
BEGIN:VEVENT
DTSTART;TZID=Europe/Paris:20210426T080000
DTEND;TZID=Europe/Paris:20210430T170000
DTSTAMP:20260423T002832
CREATED:20210317T200452Z
LAST-MODIFIED:20210420T081954Z
UID:6289-1619424000-1619802000@saintamandbayonne.fr
SUMMARY:Stage en entreprise des 4èmes
DESCRIPTION:Reporté en classe de 3ème \n  \n
URL:https://saintamandbayonne.fr/event/stage-en-entreprise-des-4emes/
END:VEVENT
BEGIN:VEVENT
DTSTART;TZID=Europe/Paris:20210426T080000
DTEND;TZID=Europe/Paris:20210430T170000
DTSTAMP:20260423T002832
CREATED:20210420T082048Z
LAST-MODIFIED:20210420T082048Z
UID:6394-1619424000-1619802000@saintamandbayonne.fr
SUMMARY:Enseignement à distance pour le collège
DESCRIPTION:
URL:https://saintamandbayonne.fr/event/enseignement-a-distance-pour-le-college/
END:VEVENT
END:VCALENDAR