BEGIN:VCALENDAR
VERSION:2.0
PRODID:-//Etablissement St Amand de Bayonne - ECPv4.6.22.1//NONSGML v1.0//EN
CALSCALE:GREGORIAN
METHOD:PUBLISH
X-WR-CALNAME:Etablissement St Amand de Bayonne
X-ORIGINAL-URL:https://saintamandbayonne.fr
X-WR-CALDESC:Évènements pour Etablissement St Amand de Bayonne
BEGIN:VEVENT
DTSTART;TZID=Europe/Paris:20210513T080000
DTEND;TZID=Europe/Paris:20210516T170000
DTSTAMP:20260423T002812
CREATED:20210317T200642Z
LAST-MODIFIED:20210317T200642Z
UID:6293-1620892800-1621184400@saintamandbayonne.fr
SUMMARY:Pont de l'Ascension
DESCRIPTION:
URL:https://saintamandbayonne.fr/event/pont-de-lascension/
END:VEVENT
END:VCALENDAR