BEGIN:VCALENDAR
VERSION:2.0
PRODID:-//Etablissement St Amand de Bayonne - ECPv4.6.22.1//NONSGML v1.0//EN
CALSCALE:GREGORIAN
METHOD:PUBLISH
X-WR-CALNAME:Etablissement St Amand de Bayonne
X-ORIGINAL-URL:https://saintamandbayonne.fr
X-WR-CALDESC:Évènements pour Etablissement St Amand de Bayonne
BEGIN:VEVENT
DTSTART;TZID=Europe/Paris:20210524T080000
DTEND;TZID=Europe/Paris:20210524T170000
DTSTAMP:20260423T002831
CREATED:20210317T200920Z
LAST-MODIFIED:20210317T200920Z
UID:6299-1621843200-1621875600@saintamandbayonne.fr
SUMMARY:Lundi de Pentecôte
DESCRIPTION:Pas de cours \n
URL:https://saintamandbayonne.fr/event/lundi-de-pentecote/
END:VEVENT
END:VCALENDAR