BEGIN:VCALENDAR
VERSION:2.0
PRODID:-//Etablissement St Amand de Bayonne - ECPv4.6.22.1//NONSGML v1.0//EN
CALSCALE:GREGORIAN
METHOD:PUBLISH
X-WR-CALNAME:Etablissement St Amand de Bayonne
X-ORIGINAL-URL:https://saintamandbayonne.fr
X-WR-CALDESC:Évènements pour Etablissement St Amand de Bayonne
BEGIN:VEVENT
DTSTART;TZID=Europe/Paris:20210910T170000
DTEND;TZID=Europe/Paris:20210910T190000
DTSTAMP:20260422T183628
CREATED:20210816T141214Z
LAST-MODIFIED:20210816T141214Z
UID:6672-1631293200-1631300400@saintamandbayonne.fr
SUMMARY:Réunion de rentrée parents de 5ème
DESCRIPTION:
URL:https://saintamandbayonne.fr/event/reunion-de-rentree-parents-de-5eme/
END:VEVENT
END:VCALENDAR