BEGIN:VCALENDAR
VERSION:2.0
PRODID:-//Etablissement St Amand de Bayonne - ECPv4.6.22.1//NONSGML v1.0//EN
CALSCALE:GREGORIAN
METHOD:PUBLISH
X-WR-CALNAME:Etablissement St Amand de Bayonne
X-ORIGINAL-URL:https://saintamandbayonne.fr
X-WR-CALDESC:Évènements pour Etablissement St Amand de Bayonne
BEGIN:VEVENT
DTSTART;TZID=Europe/Paris:20210914T083000
DTEND;TZID=Europe/Paris:20210914T163000
DTSTAMP:20260422T184220
CREATED:20210816T141301Z
LAST-MODIFIED:20210816T141301Z
UID:6674-1631608200-1631637000@saintamandbayonne.fr
SUMMARY:Photos de classe à l'école
DESCRIPTION:
URL:https://saintamandbayonne.fr/event/photos-de-classe-a-lecole/
END:VEVENT
END:VCALENDAR