BEGIN:VCALENDAR
VERSION:2.0
PRODID:-//Etablissement St Amand de Bayonne - ECPv4.6.22.1//NONSGML v1.0//EN
CALSCALE:GREGORIAN
METHOD:PUBLISH
X-WR-CALNAME:Etablissement St Amand de Bayonne
X-ORIGINAL-URL:https://saintamandbayonne.fr
X-WR-CALDESC:Évènements pour Etablissement St Amand de Bayonne
BEGIN:VEVENT
DTSTART;TZID=Europe/Paris:20210915T083000
DTEND;TZID=Europe/Paris:20210915T120000
DTSTAMP:20260422T183734
CREATED:20210816T141346Z
LAST-MODIFIED:20210816T141346Z
UID:6676-1631694600-1631707200@saintamandbayonne.fr
SUMMARY:Photos de classe au collège
DESCRIPTION:
URL:https://saintamandbayonne.fr/event/photos-de-classe-au-college/
END:VEVENT
END:VCALENDAR