BEGIN:VCALENDAR
VERSION:2.0
PRODID:-//Etablissement St Amand de Bayonne - ECPv4.6.22.1//NONSGML v1.0//EN
CALSCALE:GREGORIAN
METHOD:PUBLISH
X-WR-CALNAME:Etablissement St Amand de Bayonne
X-ORIGINAL-URL:https://saintamandbayonne.fr
X-WR-CALDESC:Évènements pour Etablissement St Amand de Bayonne
BEGIN:VEVENT
DTSTART;TZID=Europe/Paris:20211112T133000
DTEND;TZID=Europe/Paris:20211112T143000
DTSTAMP:20260422T152905
CREATED:20211029T155817Z
LAST-MODIFIED:20211029T155817Z
UID:6853-1636723800-1636727400@saintamandbayonne.fr
SUMMARY:Rencontre des CM2 avec le directeur du collège
DESCRIPTION:
URL:https://saintamandbayonne.fr/event/rencontre-des-cm2-avec-le-directeur-du-college/
END:VEVENT
END:VCALENDAR