BEGIN:VCALENDAR
VERSION:2.0
PRODID:-//Etablissement St Amand de Bayonne - ECPv4.6.22.1//NONSGML v1.0//EN
CALSCALE:GREGORIAN
METHOD:PUBLISH
X-WR-CALNAME:Etablissement St Amand de Bayonne
X-ORIGINAL-URL:https://saintamandbayonne.fr
X-WR-CALDESC:Évènements pour Etablissement St Amand de Bayonne
BEGIN:VEVENT
DTSTART;TZID=Europe/Paris:20211214T170000
DTEND;TZID=Europe/Paris:20211214T193000
DTSTAMP:20260422T135850
CREATED:20211029T160634Z
LAST-MODIFIED:20211029T160634Z
UID:6875-1639501200-1639510200@saintamandbayonne.fr
SUMMARY:Rencontre parents / professeurs de 4ème
DESCRIPTION:
URL:https://saintamandbayonne.fr/event/rencontre-parents-professeurs-de-4eme/
END:VEVENT
END:VCALENDAR