BEGIN:VCALENDAR
VERSION:2.0
PRODID:-//Etablissement St Amand de Bayonne - ECPv4.6.22.1//NONSGML v1.0//EN
CALSCALE:GREGORIAN
METHOD:PUBLISH
X-WR-CALNAME:Etablissement St Amand de Bayonne
X-ORIGINAL-URL:https://saintamandbayonne.fr
X-WR-CALDESC:Évènements pour Etablissement St Amand de Bayonne
BEGIN:VEVENT
DTSTART;TZID=Europe/Paris:20211217T093000
DTEND;TZID=Europe/Paris:20211217T103000
DTSTAMP:20260422T135750
CREATED:20211029T160719Z
LAST-MODIFIED:20211029T160719Z
UID:6877-1639733400-1639737000@saintamandbayonne.fr
SUMMARY:Célébration de Noël
DESCRIPTION:
URL:https://saintamandbayonne.fr/event/celebration-de-noel-3/
END:VEVENT
END:VCALENDAR