BEGIN:VCALENDAR
VERSION:2.0
PRODID:-//Etablissement St Amand de Bayonne - ECPv4.6.22.1//NONSGML v1.0//EN
CALSCALE:GREGORIAN
METHOD:PUBLISH
X-WR-CALNAME:Etablissement St Amand de Bayonne
X-ORIGINAL-URL:https://saintamandbayonne.fr
X-WR-CALDESC:Évènements pour Etablissement St Amand de Bayonne
BEGIN:VEVENT
DTSTART;TZID=Europe/Paris:20220107T083000
DTEND;TZID=Europe/Paris:20220107T103000
DTSTAMP:20260421T164808
CREATED:20211231T143524Z
LAST-MODIFIED:20211231T143524Z
UID:7184-1641544200-1641551400@saintamandbayonne.fr
SUMMARY:Temps fort pour les 3èmes avec Laurent Gay
DESCRIPTION:
URL:https://saintamandbayonne.fr/event/temps-fort-pour-les-3emes-avec-laurent-gay/
END:VEVENT
END:VCALENDAR