BEGIN:VCALENDAR
VERSION:2.0
PRODID:-//Etablissement St Amand de Bayonne - ECPv4.6.22.1//NONSGML v1.0//EN
CALSCALE:GREGORIAN
METHOD:PUBLISH
X-WR-CALNAME:Etablissement St Amand de Bayonne
X-ORIGINAL-URL:https://saintamandbayonne.fr
X-WR-CALDESC:Évènements pour Etablissement St Amand de Bayonne
BEGIN:VEVENT
DTSTART;TZID=Europe/Paris:20220113T080000
DTEND;TZID=Europe/Paris:20220114T170000
DTSTAMP:20260421T060403
CREATED:20220108T135638Z
LAST-MODIFIED:20220108T135734Z
UID:7228-1642060800-1642179600@saintamandbayonne.fr
SUMMARY:Projet Atabal / 4C
DESCRIPTION:
URL:https://saintamandbayonne.fr/event/projet-atabal-4c/
END:VEVENT
END:VCALENDAR