BEGIN:VCALENDAR
VERSION:2.0
PRODID:-//Etablissement St Amand de Bayonne - ECPv4.6.22.1//NONSGML v1.0//EN
CALSCALE:GREGORIAN
METHOD:PUBLISH
X-WR-CALNAME:Etablissement St Amand de Bayonne
X-ORIGINAL-URL:https://saintamandbayonne.fr
X-WR-CALDESC:Évènements pour Etablissement St Amand de Bayonne
BEGIN:VEVENT
DTSTART;TZID=Europe/Paris:20220117T080000
DTEND;TZID=Europe/Paris:20220118T170000
DTSTAMP:20260420T233113
CREATED:20220108T135810Z
LAST-MODIFIED:20220108T135810Z
UID:7230-1642406400-1642525200@saintamandbayonne.fr
SUMMARY:Projet Atabal / 4C
DESCRIPTION:
URL:https://saintamandbayonne.fr/event/projet-atabal-4c-2/
END:VEVENT
END:VCALENDAR