BEGIN:VCALENDAR
VERSION:2.0
PRODID:-//Etablissement St Amand de Bayonne - ECPv4.6.22.1//NONSGML v1.0//EN
CALSCALE:GREGORIAN
METHOD:PUBLISH
X-WR-CALNAME:Etablissement St Amand de Bayonne
X-ORIGINAL-URL:https://saintamandbayonne.fr
X-WR-CALDESC:Évènements pour Etablissement St Amand de Bayonne
BEGIN:VEVENT
DTSTART;TZID=Europe/Paris:20230524T080000
DTEND;TZID=Europe/Paris:20230529T170000
DTSTAMP:20260421T110809
CREATED:20230312T174915Z
LAST-MODIFIED:20230312T174915Z
UID:8378-1684915200-1685379600@saintamandbayonne.fr
SUMMARY:Accueil des élèves de Barcelone
DESCRIPTION:
URL:https://saintamandbayonne.fr/event/accueil-des-eleves-de-barcelone/
END:VEVENT
END:VCALENDAR