BEGIN:VCALENDAR
VERSION:2.0
PRODID:-//Etablissement St Amand de Bayonne - ECPv4.6.22.1//NONSGML v1.0//EN
CALSCALE:GREGORIAN
METHOD:PUBLISH
X-WR-CALNAME:Etablissement St Amand de Bayonne
X-ORIGINAL-URL:https://saintamandbayonne.fr
X-WR-CALDESC:Évènements pour Etablissement St Amand de Bayonne
BEGIN:VEVENT
DTSTART;TZID=Europe/Paris:20230605T170000
DTEND;TZID=Europe/Paris:20230605T200000
DTSTAMP:20260421T095207
CREATED:20230518T192605Z
LAST-MODIFIED:20230518T192605Z
UID:8597-1685984400-1685995200@saintamandbayonne.fr
SUMMARY:Conseils de classe des 6A\, 6B\, 6C
DESCRIPTION:
URL:https://saintamandbayonne.fr/event/conseils-de-classe-des-6a-6b-6c/
END:VEVENT
END:VCALENDAR