BEGIN:VCALENDAR
VERSION:2.0
PRODID:-//Etablissement St Amand de Bayonne - ECPv4.6.22.1//NONSGML v1.0//EN
CALSCALE:GREGORIAN
METHOD:PUBLISH
X-WR-CALNAME:Etablissement St Amand de Bayonne
X-ORIGINAL-URL:https://saintamandbayonne.fr
X-WR-CALDESC:Évènements pour Etablissement St Amand de Bayonne
BEGIN:VEVENT
DTSTART;TZID=Europe/Paris:20230612T170000
DTEND;TZID=Europe/Paris:20230612T200000
DTSTAMP:20260421T100122
CREATED:20230518T192650Z
LAST-MODIFIED:20230518T192650Z
UID:8599-1686589200-1686600000@saintamandbayonne.fr
SUMMARY:Conseils de classe des 5A\, 5B\, 5C
DESCRIPTION:
URL:https://saintamandbayonne.fr/event/conseils-de-classe-des-5a-5b-5c/
END:VEVENT
END:VCALENDAR