BEGIN:VCALENDAR
VERSION:2.0
PRODID:-//Etablissement St Amand de Bayonne - ECPv4.6.22.1//NONSGML v1.0//EN
CALSCALE:GREGORIAN
METHOD:PUBLISH
X-WR-CALNAME:Etablissement St Amand de Bayonne
X-ORIGINAL-URL:https://saintamandbayonne.fr
X-WR-CALDESC:Évènements pour Etablissement St Amand de Bayonne
BEGIN:VEVENT
DTSTART;TZID=Europe/Paris:20230613T170000
DTEND;TZID=Europe/Paris:20230613T200000
DTSTAMP:20260421T095413
CREATED:20230518T193016Z
LAST-MODIFIED:20230518T193016Z
UID:8601-1686675600-1686686400@saintamandbayonne.fr
SUMMARY:Conseils de classe de 4A\, 4B\, 4C
DESCRIPTION:
URL:https://saintamandbayonne.fr/event/conseils-de-classe-de-4a-4b-4c/
END:VEVENT
END:VCALENDAR