BEGIN:VCALENDAR
VERSION:2.0
PRODID:-//Etablissement St Amand de Bayonne - ECPv4.6.22.1//NONSGML v1.0//EN
CALSCALE:GREGORIAN
METHOD:PUBLISH
X-WR-CALNAME:Etablissement St Amand de Bayonne
X-ORIGINAL-URL:https://saintamandbayonne.fr
X-WR-CALDESC:Évènements pour Etablissement St Amand de Bayonne
BEGIN:VEVENT
DTSTART;TZID=Europe/Paris:20230620T163000
DTEND;TZID=Europe/Paris:20230620T170000
DTSTAMP:20260421T095718
CREATED:20230312T175127Z
LAST-MODIFIED:20230312T175127Z
UID:8384-1687278600-1687280400@saintamandbayonne.fr
SUMMARY:Sortie des 3èmes
DESCRIPTION:
URL:https://saintamandbayonne.fr/event/sortie-des-3emes-2/
END:VEVENT
END:VCALENDAR