BEGIN:VCALENDAR
VERSION:2.0
PRODID:-//Etablissement St Amand de Bayonne - ECPv4.6.22.1//NONSGML v1.0//EN
CALSCALE:GREGORIAN
METHOD:PUBLISH
X-WR-CALNAME:Etablissement St Amand de Bayonne
X-ORIGINAL-URL:https://saintamandbayonne.fr
X-WR-CALDESC:Évènements pour Etablissement St Amand de Bayonne
BEGIN:VEVENT
DTSTART;TZID=Europe/Paris:20230904T082500
DTEND;TZID=Europe/Paris:20230904T163000
DTSTAMP:20260421T045612
CREATED:20230802T150622Z
LAST-MODIFIED:20230802T150622Z
UID:8848-1693815900-1693845000@saintamandbayonne.fr
SUMMARY:Rentrée des maternelles\, primaires et des 6èmes
DESCRIPTION:
URL:https://saintamandbayonne.fr/event/rentree-des-maternelles-primaires-et-des-6emes/
END:VEVENT
END:VCALENDAR