BEGIN:VCALENDAR
VERSION:2.0
PRODID:-//Etablissement St Amand de Bayonne - ECPv4.6.22.1//NONSGML v1.0//EN
CALSCALE:GREGORIAN
METHOD:PUBLISH
X-WR-CALNAME:Etablissement St Amand de Bayonne
X-ORIGINAL-URL:https://saintamandbayonne.fr
X-WR-CALDESC:Évènements pour Etablissement St Amand de Bayonne
BEGIN:VEVENT
DTSTART;TZID=Europe/Paris:20230905T082500
DTEND;TZID=Europe/Paris:20230905T164000
DTSTAMP:20260421T045746
CREATED:20230802T150710Z
LAST-MODIFIED:20230802T150710Z
UID:8850-1693902300-1693932000@saintamandbayonne.fr
SUMMARY:Rentrée des 5èmes\, 4èmes et 3èmes
DESCRIPTION:
URL:https://saintamandbayonne.fr/event/rentree-des-5emes-4emes-et-3emes-5/
END:VEVENT
END:VCALENDAR