BEGIN:VCALENDAR
VERSION:2.0
PRODID:-//Etablissement St Amand de Bayonne - ECPv4.6.22.1//NONSGML v1.0//EN
CALSCALE:GREGORIAN
METHOD:PUBLISH
X-WR-CALNAME:Etablissement St Amand de Bayonne
X-ORIGINAL-URL:https://saintamandbayonne.fr
X-WR-CALDESC:Évènements pour Etablissement St Amand de Bayonne
BEGIN:VEVENT
DTSTART;TZID=Europe/Paris:20230907T170000
DTEND;TZID=Europe/Paris:20230907T183000
DTSTAMP:20260421T045710
CREATED:20230802T150802Z
LAST-MODIFIED:20230802T150802Z
UID:8852-1694106000-1694111400@saintamandbayonne.fr
SUMMARY:Réunion parents de 3ème
DESCRIPTION:
URL:https://saintamandbayonne.fr/event/reunion-parents-de-3eme-2/
END:VEVENT
END:VCALENDAR