BEGIN:VCALENDAR
VERSION:2.0
PRODID:-//Etablissement St Amand de Bayonne - ECPv4.6.22.1//NONSGML v1.0//EN
CALSCALE:GREGORIAN
METHOD:PUBLISH
X-WR-CALNAME:Etablissement St Amand de Bayonne
X-ORIGINAL-URL:https://saintamandbayonne.fr
X-WR-CALDESC:Évènements pour Etablissement St Amand de Bayonne
BEGIN:VEVENT
DTSTART;TZID=Europe/Paris:20231010T180000
DTEND;TZID=Europe/Paris:20231010T210000
DTSTAMP:20260421T031234
CREATED:20230916T080520Z
LAST-MODIFIED:20230916T080520Z
UID:8875-1696960800-1696971600@saintamandbayonne.fr
SUMMARY:AG de l'APEL
DESCRIPTION:
URL:https://saintamandbayonne.fr/event/ag-de-lapel/
END:VEVENT
END:VCALENDAR