BEGIN:VCALENDAR
VERSION:2.0
PRODID:-//Etablissement St Amand de Bayonne - ECPv4.6.22.1//NONSGML v1.0//EN
CALSCALE:GREGORIAN
METHOD:PUBLISH
X-WR-CALNAME:Etablissement St Amand de Bayonne
X-ORIGINAL-URL:https://saintamandbayonne.fr
X-WR-CALDESC:Évènements pour Etablissement St Amand de Bayonne
BEGIN:VEVENT
DTSTART;TZID=Europe/Paris:20231013T080000
DTEND;TZID=Europe/Paris:20231013T170000
DTSTAMP:20260421T031521
CREATED:20230916T075619Z
LAST-MODIFIED:20230918T110811Z
UID:8865-1697184000-1697216400@saintamandbayonne.fr
SUMMARY:Sortie des 6è au Berceau de St Vincent de Paul
DESCRIPTION:
URL:https://saintamandbayonne.fr/event/sortie-des-6e-au-berceau-de-st-vincent-de-paul/
END:VEVENT
BEGIN:VEVENT
DTSTART;TZID=Europe/Paris:20231013T190000
DTEND;TZID=Europe/Paris:20231013T220000
DTSTAMP:20260421T031521
CREATED:20230916T080616Z
LAST-MODIFIED:20230916T080616Z
UID:8877-1697223600-1697234400@saintamandbayonne.fr
SUMMARY:Soirée des parents organisée par l'APEL
DESCRIPTION:
URL:https://saintamandbayonne.fr/event/soiree-des-parents-organisee-par-lapel/
END:VEVENT
END:VCALENDAR