BEGIN:VCALENDAR
VERSION:2.0
PRODID:-//Etablissement St Amand de Bayonne - ECPv4.6.22.1//NONSGML v1.0//EN
CALSCALE:GREGORIAN
METHOD:PUBLISH
X-WR-CALNAME:Etablissement St Amand de Bayonne
X-ORIGINAL-URL:https://saintamandbayonne.fr
X-WR-CALDESC:Évènements pour Etablissement St Amand de Bayonne
BEGIN:VEVENT
DTSTART;TZID=Europe/Paris:20231123T170000
DTEND;TZID=Europe/Paris:20231123T200000
DTSTAMP:20260421T013436
CREATED:20231019T152900Z
LAST-MODIFIED:20231019T152900Z
UID:9115-1700758800-1700769600@saintamandbayonne.fr
SUMMARY:Conseils de classe 6B 6C
DESCRIPTION:
URL:https://saintamandbayonne.fr/event/conseils-de-classe-6b-6c-2/
END:VEVENT
END:VCALENDAR