BEGIN:VCALENDAR
VERSION:2.0
PRODID:-//Etablissement St Amand de Bayonne - ECPv4.6.22.1//NONSGML v1.0//EN
CALSCALE:GREGORIAN
METHOD:PUBLISH
X-WR-CALNAME:Etablissement St Amand de Bayonne
X-ORIGINAL-URL:https://saintamandbayonne.fr
X-WR-CALDESC:Évènements pour Etablissement St Amand de Bayonne
BEGIN:VEVENT
DTSTART;TZID=Europe/Paris:20231127T170000
DTEND;TZID=Europe/Paris:20231127T193000
DTSTAMP:20260421T014042
CREATED:20231019T153020Z
LAST-MODIFIED:20231019T153020Z
UID:9117-1701104400-1701113400@saintamandbayonne.fr
SUMMARY:Réunion parents professeurs 5A 5C 6C
DESCRIPTION:
URL:https://saintamandbayonne.fr/event/reunion-parents-professeurs-5a-5c-6c/
END:VEVENT
END:VCALENDAR