BEGIN:VCALENDAR
VERSION:2.0
PRODID:-//Etablissement St Amand de Bayonne - ECPv4.6.22.1//NONSGML v1.0//EN
CALSCALE:GREGORIAN
METHOD:PUBLISH
X-WR-CALNAME:Etablissement St Amand de Bayonne
X-ORIGINAL-URL:https://saintamandbayonne.fr
X-WR-CALDESC:Évènements pour Etablissement St Amand de Bayonne
BEGIN:VEVENT
DTSTART;TZID=Europe/Paris:20231128T170000
DTEND;TZID=Europe/Paris:20231128T193000
DTSTAMP:20260420T235112
CREATED:20231019T153113Z
LAST-MODIFIED:20231019T153113Z
UID:9119-1701190800-1701199800@saintamandbayonne.fr
SUMMARY:Réunion parents professeurs 6A 6B 5B
DESCRIPTION:
URL:https://saintamandbayonne.fr/event/reunion-parents-professeurs-6a-6b-5b/
END:VEVENT
END:VCALENDAR