BEGIN:VCALENDAR
VERSION:2.0
PRODID:-//Etablissement St Amand de Bayonne - ECPv4.6.22.1//NONSGML v1.0//EN
CALSCALE:GREGORIAN
METHOD:PUBLISH
X-WR-CALNAME:Etablissement St Amand de Bayonne
X-ORIGINAL-URL:https://saintamandbayonne.fr
X-WR-CALDESC:Évènements pour Etablissement St Amand de Bayonne
BEGIN:VEVENT
DTSTART;TZID=Europe/Paris:20231211T170000
DTEND;TZID=Europe/Paris:20231211T193000
DTSTAMP:20260420T235908
CREATED:20231019T153433Z
LAST-MODIFIED:20231019T153433Z
UID:9127-1702314000-1702323000@saintamandbayonne.fr
SUMMARY:Réunion parents professeurs 3è
DESCRIPTION:
URL:https://saintamandbayonne.fr/event/reunion-parents-professeurs-3e/
END:VEVENT
END:VCALENDAR