BEGIN:VCALENDAR
VERSION:2.0
PRODID:-//Etablissement St Amand de Bayonne - ECPv4.6.22.1//NONSGML v1.0//EN
CALSCALE:GREGORIAN
METHOD:PUBLISH
X-WR-CALNAME:Etablissement St Amand de Bayonne
X-ORIGINAL-URL:https://saintamandbayonne.fr
X-WR-CALDESC:Évènements pour Etablissement St Amand de Bayonne
BEGIN:VEVENT
DTSTART;TZID=Europe/Paris:20240212T080000
DTEND;TZID=Europe/Paris:20240216T170000
DTSTAMP:20260420T204459
CREATED:20240123T122043Z
LAST-MODIFIED:20240123T122043Z
UID:9750-1707724800-1708102800@saintamandbayonne.fr
SUMMARY:Les 6è aux ski
DESCRIPTION:
URL:https://saintamandbayonne.fr/event/les-6e-aux-ski/
END:VEVENT
BEGIN:VEVENT
DTSTART;TZID=Europe/Paris:20240215T183000
DTEND;TZID=Europe/Paris:20240215T200000
DTSTAMP:20260420T204459
CREATED:20240211T175145Z
LAST-MODIFIED:20240211T175145Z
UID:9829-1708021800-1708027200@saintamandbayonne.fr
SUMMARY:Rencontre des parents correspondants
DESCRIPTION:
URL:https://saintamandbayonne.fr/event/rencontre-des-parents-correspondants-3/
END:VEVENT
END:VCALENDAR