BEGIN:VCALENDAR
VERSION:2.0
PRODID:-//Etablissement St Amand de Bayonne - ECPv4.6.22.1//NONSGML v1.0//EN
CALSCALE:GREGORIAN
METHOD:PUBLISH
X-WR-CALNAME:Etablissement St Amand de Bayonne
X-ORIGINAL-URL:https://saintamandbayonne.fr
X-WR-CALDESC:Évènements pour Etablissement St Amand de Bayonne
BEGIN:VEVENT
DTSTART;TZID=Europe/Paris:20240527T130000
DTEND;TZID=Europe/Paris:20240527T163000
DTSTAMP:20260419T140520
CREATED:20240426T120610Z
LAST-MODIFIED:20240426T120610Z
UID:10101-1716814800-1716827400@saintamandbayonne.fr
SUMMARY:Visite des lieux de culte de Bayonne en 5è
DESCRIPTION:
URL:https://saintamandbayonne.fr/event/visite-des-lieux-de-culte-de-bayonne-en-5e/
END:VEVENT
END:VCALENDAR