BEGIN:VCALENDAR
VERSION:2.0
PRODID:-//Etablissement St Amand de Bayonne - ECPv4.6.22.1//NONSGML v1.0//EN
CALSCALE:GREGORIAN
METHOD:PUBLISH
X-WR-CALNAME:Etablissement St Amand de Bayonne
X-ORIGINAL-URL:https://saintamandbayonne.fr
X-WR-CALDESC:Évènements pour Etablissement St Amand de Bayonne
BEGIN:VEVENT
DTSTART;TZID=Europe/Paris:20240611T170000
DTEND;TZID=Europe/Paris:20240611T200000
DTSTAMP:20260420T134934
CREATED:20240426T121818Z
LAST-MODIFIED:20240426T121818Z
UID:10123-1718125200-1718136000@saintamandbayonne.fr
SUMMARY:Conseils de classe des 6ABC
DESCRIPTION:
URL:https://saintamandbayonne.fr/event/conseils-de-classe-des-6abc/
END:VEVENT
END:VCALENDAR